BEGIN:VCALENDAR
VERSION:2.0
PRODID:-//Clyst Honiton Parish Council//Meeting Calendar//EN
CALSCALE:GREGORIAN
METHOD:PUBLISH
BEGIN:VEVENT
UID:70790-20260218@clysthonitonparish.gov.uk
DTSTAMP:20260422T181816Z
DTSTART;VALUE=DATE:20260218
DTEND;VALUE=DATE:20260219
SUMMARY:Meeting Date Here
DESCRIPTION:Full Council Meeting\nView details: https://clysthonitonparish.gov.uk/meetings/meeting-name-here/
URL:https://clysthonitonparish.gov.uk/meetings/meeting-name-here/
END:VEVENT
END:VCALENDAR
