BEGIN:VCALENDAR
VERSION:2.0
PRODID:-//Clyst Honiton Parish Council//Meeting Calendar//EN
CALSCALE:GREGORIAN
METHOD:PUBLISH
BEGIN:VEVENT
UID:70773-20260121@clysthonitonparish.gov.uk
DTSTAMP:20260422T194529Z
DTSTART;VALUE=DATE:20260121
DTEND;VALUE=DATE:20260122
SUMMARY:Council Meeting 21st January 2026 (Cancelled)
DESCRIPTION:Full Council Meeting\nView details: https://clysthonitonparish.gov.uk/meetings/parish-council-meeting-weds-black-horse/
URL:https://clysthonitonparish.gov.uk/meetings/parish-council-meeting-weds-black-horse/
END:VEVENT
END:VCALENDAR
