BEGIN:VCALENDAR
VERSION:2.0
PRODID:-//Clyst Honiton Parish Council//Meeting Calendar//EN
CALSCALE:GREGORIAN
METHOD:PUBLISH
BEGIN:VEVENT
UID:70745-20251112@clysthonitonparish.gov.uk
DTSTAMP:20260422T195544Z
DTSTART;VALUE=DATE:20251112
DTEND;VALUE=DATE:20251113
SUMMARY:Council Meeting\\, 12th November 2025
DESCRIPTION:Full Council Meeting\nView details: https://clysthonitonparish.gov.uk/meetings/prish-council-meeting/
URL:https://clysthonitonparish.gov.uk/meetings/prish-council-meeting/
END:VEVENT
END:VCALENDAR
