BEGIN:VCALENDAR
VERSION:2.0
PRODID:-//Clyst Honiton Parish Council//Meeting Calendar//EN
CALSCALE:GREGORIAN
METHOD:PUBLISH
BEGIN:VEVENT
UID:70584-20210520@clysthonitonparish.gov.uk
DTSTAMP:20260422T212955Z
DTSTART;VALUE=DATE:20210520
DTEND;VALUE=DATE:20210521
SUMMARY:Annual Council Meeting &#8211\\; 20 May 2021
DESCRIPTION:Annual Parish Meeting\nView details: https://clysthonitonparish.gov.uk/meetings/annual-council-meeting-20-may-2021/
URL:https://clysthonitonparish.gov.uk/meetings/annual-council-meeting-20-may-2021/
END:VEVENT
END:VCALENDAR
