BEGIN:VCALENDAR
VERSION:2.0
PRODID:-//Clyst Honiton Parish Council//Meeting Calendar//EN
CALSCALE:GREGORIAN
METHOD:PUBLISH
BEGIN:VEVENT
UID:70566-20210101@clysthonitonparish.gov.uk
DTSTAMP:20260422T212754Z
DTSTART;VALUE=DATE:20210101
DTEND;VALUE=DATE:20210102
SUMMARY:Council Meeting &#8211\\; 2021
DESCRIPTION:Full Council Meeting\nView details: https://clysthonitonparish.gov.uk/meetings/council-meeting-2021/
URL:https://clysthonitonparish.gov.uk/meetings/council-meeting-2021/
END:VEVENT
END:VCALENDAR
