BEGIN:VCALENDAR
VERSION:2.0
PRODID:-//Clyst Honiton Parish Council//Meeting Calendar//EN
CALSCALE:GREGORIAN
METHOD:PUBLISH
BEGIN:VEVENT
UID:70552-20220102@clysthonitonparish.gov.uk
DTSTAMP:20260422T212717Z
DTSTART;VALUE=DATE:20220102
DTEND;VALUE=DATE:20220103
SUMMARY:Council Meeting &#8211\\; 2022
DESCRIPTION:Full Council Meeting\nView details: https://clysthonitonparish.gov.uk/meetings/council-meeting-2022/
URL:https://clysthonitonparish.gov.uk/meetings/council-meeting-2022/
END:VEVENT
END:VCALENDAR
