BEGIN:VCALENDAR
VERSION:2.0
PRODID:-//Clyst Honiton Parish Council//Meeting Calendar//EN
CALSCALE:GREGORIAN
METHOD:PUBLISH
BEGIN:VEVENT
UID:70513-20240101@clysthonitonparish.gov.uk
DTSTAMP:20260422T231250Z
DTSTART;VALUE=DATE:20240101
DTEND;VALUE=DATE:20240102
SUMMARY:Council Meeting &#8211\\; 2024
DESCRIPTION:Full Council Meeting\nView details: https://clysthonitonparish.gov.uk/meetings/council-meeting-2024/
URL:https://clysthonitonparish.gov.uk/meetings/council-meeting-2024/
END:VEVENT
END:VCALENDAR
