BEGIN:VCALENDAR
VERSION:2.0
PRODID:-//Clyst Honiton Parish Council//Meeting Calendar//EN
CALSCALE:GREGORIAN
METHOD:PUBLISH
BEGIN:VEVENT
UID:70501-20250409@clysthonitonparish.gov.uk
DTSTAMP:20260422T212855Z
DTSTART;VALUE=DATE:20250409
DTEND;VALUE=DATE:20250410
SUMMARY:Council Meeting &#8211\\; 9 April 2025
DESCRIPTION:Full Council Meeting\nView details: https://clysthonitonparish.gov.uk/meetings/council-meeting-9-april-2025/
URL:https://clysthonitonparish.gov.uk/meetings/council-meeting-9-april-2025/
END:VEVENT
END:VCALENDAR
