BEGIN:VCALENDAR
VERSION:2.0
PRODID:-//Clyst Honiton Parish Council//Meeting Calendar//EN
CALSCALE:GREGORIAN
METHOD:PUBLISH
BEGIN:VEVENT
UID:70497-20250312@clysthonitonparish.gov.uk
DTSTAMP:20260422T212901Z
DTSTART;VALUE=DATE:20250312
DTEND;VALUE=DATE:20250313
SUMMARY:Council Meeting &#8211\\; 12 March 2025
DESCRIPTION:Full Council Meeting\nView details: https://clysthonitonparish.gov.uk/meetings/council-meeting-12-march-2025/
URL:https://clysthonitonparish.gov.uk/meetings/council-meeting-12-march-2025/
END:VEVENT
END:VCALENDAR
